Workbook
Name Excel_BuiltIn_Print_Area_1: #REF!
Name Excel_BuiltIn_Print_Titles_1: #REF!

Sheet Роженцово
A1: 17 | B1: Предварительный реестр расходных обязательств администрации Роженцовского сельсовета на 2020-2022 г.г.
B3: Наименование полномочия, расходного обязательства | D3: Наименование муниципальной услуги (работы), код строки | E3: Правовое основание финансового обеспечения и расходования средств (нормативные правовые акт, договоры, соглашения) | K3: Код расхода по БК | M3: Объем средств на исполнение расходного обязательства
A4: ID_Form = 1000368 | E4: Российской Федерации | H4: субъекта Российской Федерации | M4: отчетный 2018 год | O4: текущий 2019 год | P4: очередной 2020 год | Q4: плановый период
A5: 6 | E5: Наименование номер и дата | F5: Номер статьи (подстатьи), пункта (подпункта ) | G5: Дата вступления в силу и срок действия | H5: Наименование номер и дата | I5: Номер статьи (подстатьи), пункта (подпункта ) | J5: Дата вступления в силу и срок действия | K5: раздел | L5: подраздел | M5: по плану | N5: по факту исполнения | Q5: 2021 | R5: 2022
A6: 8 | C6: 1 | D6: 2 | E6: 3 | F6: 4 | G6: 5 | H6: 6 | I6: 7 | J6: 8 | K6: 12 | L6: 13 | M6: 14 | N6: 15 | O6: 16 | P6: 17 | Q6: 18 | R6: 19
B7: 1. | C7: Расходные обязательства, возникшие в результате принятия нормативных правовых актов сельского поселения, заключения договоров (соглашений), всего из них: | D7: 5000 | E7: х | F7: х | G7: х | H7: х | I7: х | J7: х | K7: х | L7: х | M7: =SUM(M8+M48+M91+M100) -> 15101.8 | N7: =SUM(N8+N48+N91+N100) -> 14953.1 | O7: =SUM(O8+O48+O91+O100) -> 12960.1 | P7: =SUM(P8+P48+P91+P100) -> 12646 | Q7: =SUM(Q8+Q48+Q91+Q100) -> 11380.6 | R7: =SUM(R8+R48+R91+R100) -> 12340.2
B8: 1.1. | C8: Расходные обязательства, возникшие в результате принятия нормативных правовых актов сельского поселения, заключения договоров (соглашений) в рамках реализации вопросов местного значения сельского поселения, всего | D8: 5001 | E8: х | F8: х | G8: х | H8: х | I8: х | J8: х | K8: х | L8: х | M8: =SUM(M9:M47) -> 7878.8 | N8: =SUM(N9:N47) -> 7849.6 | O8: =SUM(O9:O47) -> 4878.4 | P8: =SUM(P9:P47) -> 4386.3 | Q8: =SUM(Q9:Q47) -> 4612.5 | R8: =SUM(R9:R47) -> 4826.3
B9: 1.1.1. | C9: составление и рассмотрение проекта бюджета сельского поселения, утверждение и исполнение бюджета сельского поселения, осуществление контроля за его исполнением, составление и утверждение отчета об исполнении бюджета сельского поселения | D9: 5002 | Q9: =#N/A -> 0 | R9: =#N/A -> 0
B10: 1.1.2. | C10: установление, изменение и отмена местных налогов и сборов сельского поселения | D10: 5003 | Q10: =#N/A -> 0 | R10: =#N/A -> 0
B11: 1.1.3. | C11: владение, пользование и распоряжение имуществом, находящимся в муниципальной собственности сельского поселения | D11: 5004
B12: 1.1.4. | C12: обеспечение первичных мер пожарной безопасности в границах населенных пунктов сельского поселения | D12: 5005 | E12: Федеральный закон от 21.12.1994 N 69-ФЗ(ред. от 23.06.2016) "О пожарной безопасности" | F12: статья 19 | G12: 21.12.1994 не ограничен | K12: 03 03 | L12: 09 10 | M12: 1318.1 | N12: 1312.2 | O12: 1402.1 | P12: 1487.5 | Q12: 1487.5 | R12: 1487.5
B13: 1.1.5. | C13: создание условий для обеспечения жителей сельского поселения услугами связи, общественного питания, торговли и бытового обслуживания | D13: 5006 | Q13: =#N/A -> 0 | R13: =#N/A -> 0
B14: 1.1.6. | C14: создание условий для организации досуга и обеспечения жителей сельского поселения услугами организаций культуры | D14: 5007 | Q14: =#N/A -> 0 | R14: =#N/A -> 0
B15: 1.1.7. | C15: обеспечение условий для развития на территории сельского поселения физической культуры, школьного спорта и массового спорта, организация проведения официальных физкультурно-оздоровительных и спортивных мероприятий сельского поселения | D15: 5008 | E15: Федеральный закон от 06.10.2003 N 131-ФЗ (ред. от 03.07.2016) "Об общих принципах организации местного самоуправления в Российской Федерации" | F15: статья 14, п.14 | G15: 06.10.2010 не ограничен | K15: 11 | L15: 02 | M15: 2636.7 | N15: 2632.4
B16: 1.1.8. | C16: формирование архивных фондов сельского поселения | D16: 5009 | Q16: =#N/A -> 0 | R16: =#N/A -> 0
B17: 1.1.9. | C17: утверждение правил благоустройства территории сельского поселения, устанавливающих в том числе требования по содержанию зданий (включая жилые дома), сооружений и земельных участков, на которых они расположены, к внешнему виду фасадов и ограждений соответствующих зданий и сооружений, перечень работ по благоустройству и периодичность их выполнения; установление порядка участия собственников зданий (помещений в них) и сооружений в благоустройстве прилегающих территорий; организация благоустройства территории сельского поселения (включая освещение улиц, озеленение территории, установку указателей с наименованиями улиц и номерами домов, размещение и содержание малых архитектурных форм) | D17: 5010 | E17: Федеральный закон от 06.10.2003 N 131-ФЗ (ред. от 03.07.2016) "Об общих принципах организации местного самоуправления в Российской Федерации" | F17: статья 14, п.19 | G17: 06.10.2010 не ограничен | K17: 05 04 | L17: 03 01 | M17: 2453 | N17: 2450.5 | O17: 1186.7 | P17: 840.3 | Q17: 604.9 | R17: 721.8
B18: 1.1.10. | C18: присвоение адресов объектам адресации, изменение, аннулирование адресов, присвоение наименований элементам улично-дорожной сети (за исключением автомобильных дорог федерального значения, автомобильных дорог регионального или межмуниципального значения, местного значения муниципального района), наименований элементам планировочной структуры в границах сельского поселения, изменение, аннулирование таких наименований, размещение информации в государственном адресном реестре | D18: 5011 | Q18: =#N/A -> 0 | R18: =#N/A -> 0
B19: 1.1.11. | C19: содействие в развитии сельскохозяйственного производства, создание условий для развития малого и среднего предпринимательства на территории сельского поселения | D19: 5012 | Q19: =#N/A -> 0 | R19: =#N/A -> 0
B20: 1.1.12. | C20: организация и осуществление мероприятий по работе с детьми и молодежью в сельском поселении | D20: 5013 | Q20: =#N/A -> 0 | R20: =#N/A -> 0
B21: 1.1.13. | C21: оказание поддержки гражданам и их объединениям, участвующим в охране общественного порядка, создание условий для деятельности народных дружин на территории сельского поселения | D21: 5014 | Q21: =#N/A -> 0 | R21: =#N/A -> 0
B22: 1.1.14. | C22: организация в границах сельского поселения электро-, тепло-, газо- и водоснабжения населения, водоотведения, снабжения населения топливом в пределах полномочий, установленных законодательством Российской Федерации | D22: 5015 | E22: Федеральный закон от 06.10.2003 N 131-ФЗ (ред. от 03.07.2016) "Об общих принципах организации местного самоуправления в Российской Федерации" | F22: статья 14, п.1,п.п.4 | G22: 06.10.2010 не ограничен | K22: 05 | L22: 02 | Q22: =#N/A -> 0 | R22: =#N/A -> 0
B23: 1.1.15. | C23: дорожная деятельность в отношении автомобильных дорог местного значения в границах населенных пунктов сельского поселения и обеспечение безопасности дорожного движения на них, включая создание и обеспечение функционирования парковок (парковочных мест), осуществление муниципального контроля за сохранностью автомобильных дорог местного значения в границах населенных пунктов сельского поселения, а также осуществление иных полномочий в области использования автомобильных дорог и осуществления дорожной деятельности в соответствии с законодательством Российской Федерации | D23: 5016 | E23: Федеральный закон от 08.11.2007 N 257-ФЗ (ред. от 03.07.2016) "Об автомобильных дорогах и о дорожной деятельности в Российской Федерации и о внесении изменений в отдельные законодательные акты Российской Федерации" (с изм. и доп., вступ. в силу с 15.11.2016) | F23: статья 19 | G23: 08.11.2007 не ограничен | K23: 04 | L23: 09 | M23: 1392 | N23: 1387.5 | O23: 1841.8 | P23: 1960.8 | Q23: 2422.4 | R23: 2519.3
B24: 1.1.16. | C24: обеспечение проживающих в сельском поселении и нуждающихся в жилых помещениях малоимущих граждан жилыми помещениями, организация строительства и содержания муниципального жилищного фонда, создание условий для жилищного строительства, осуществление муниципального жилищного контроля, а также иных полномочий органов местного самоуправления в соответствии с жилищным законодательством | D24: 5017 | E24: Федеральный закон от 06.10.2003 N 131-ФЗ (ред. от 03.07.2016) "Об общих принципах организации местного самоуправления в Российской Федерации" | F24: статья 14, п.6, ч.1 | G24: 06.10.2010 не ограничен | K24: 05 | L24: 01 | M24: 51.2 | N24: 39.2 | O24: 384.3 | P24: 89.7 | Q24: 89.7 | R24: 89.7
B25: 1.1.17. | C25: создание условий для предоставления транспортных услуг населению и организация транспортного обслуживания населения в границах сельского поселения | D25: 5018 | Q25: =#N/A -> 0 | R25: =#N/A -> 0
B26: 1.1.18. | C26: участие в профилактике терроризма и экстремизма, а также в минимизации и (или) ликвидации последствий проявлений терроризма и экстремизма в границах сельского поселения | D26: 5019 | Q26: =#N/A -> 0 | R26: =#N/A -> 0
B27: 1.1.19. | C27: создание условий для реализации мер, направленных на укрепление межнационального и межконфессионального согласия, сохранение и развитие языков и культуры народов Российской Федерации, проживающих на территории сельского поселения, социальную и культурную адаптацию мигрантов, профилактику межнациональных (межэтнических) конфликтов | D27: 5020 | Q27: =#N/A -> 0 | R27: =#N/A -> 0
B28: 1.1.20. | C28: участие в предупреждении и ликвидации последствий чрезвычайных ситуаций в границах сельского поселения | D28: 5021 | Q28: =#N/A -> 0 | R28: =#N/A -> 0
B29: 1.1.21. | C29: организация библиотечного обслуживания населения, комплектование и обеспечение сохранности библиотечных фондов библиотек сельского поселения | D29: 5022 | Q29: =#N/A -> 0 | R29: =#N/A -> 0
B30: 1.1.22. | C30: сохранение, использование и популяризация объектов культурного наследия (памятников истории и культуры), находящихся в собственности сельского поселения, охрана объектов культурного наследия (памятников истории и культуры) местного (муниципального) значения, расположенных на территории сельского поселения | D30: 5023 | Q30: =#N/A -> 0 | R30: =#N/A -> 0
B31: 1.1.23. | C31: создание условий для развития местного традиционного народного художественного творчества, участие в сохранении, возрождении и развитии народных художественных промыслов в сельского поселении | D31: 5024 | Q31: =#N/A -> 0 | R31: =#N/A -> 0
B32: 1.1.24. | C32: создание условий для массового отдыха жителей сельского поселения и организация обустройства мест массового отдыха населения, включая обеспечение свободного доступа граждан к водным объектам общего пользования и их береговым полосам | D32: 5025 | E32: Закона Российской Федерации от 9 октября 1992 года N 3612-1 "Основы законодательства Российской Федерации о культуре" | F32: статья 40 | G32: 09.10.1992 не ограничен | K32: 10 | L32: 06 | M32: 27.8 | N32: 27.8 | O32: 63.5 | P32: 8 | Q32: 8 | R32: 8
B33: 1.1.25. | C33: участие в организации деятельности по сбору (в том числе раздельному сбору) и транспортированию твердых коммунальных отходов | D33: 5026 | Q33: =#N/A -> 0 | R33: =#N/A -> 0
B34: 1.1.26. | C34: утверждение генеральных планов сельского поселения, правил землепользования и застройки, утверждение подготовленной на основе генеральных планов сельского поселения документации по планировке территории, выдача разрешений на строительство (за исключением случаев, предусмотренных Градостроительным кодексом Российской Федерации, иными федеральными законами), разрешений на ввод объектов в эксплуатацию при осуществлении строительства, реконструкции объектов капитального строительства, расположенных на территории сельского поселения, утверждение местных нормативов градостроительного проектирования сельского поселений, резервирование земель и изъятие земельных участков в границах сельского поселения для муниципальных нужд, осуществление муниципального земельного контроля в границах сельского поселения, осуществление в случаях, предусмотренных Градостроительным кодексом Российской Федерации, осмотров зданий, сооружений и выдача рекомендаций об устранении выявленных в ходе таких осмотров нарушений | D34: 5027 | E34: "Градостроительный кодекс Российской Федерации" от 29.12.2004 N 190-ФЗ (ред. от 03.07.2016) (с изм. и доп., вступ. в силу с 01.09.2016) | F34: статья 14, п.22 | G34: 29.12.2004 не ограничен | K34: 04 | L34: 12
B35: 1.1.27. | C35: организация ритуальных услуг и содержание мест захоронения | D35: 5028 | Q35: =#N/A -> 0 | R35: =#N/A -> 0
B36: 1.1.28. | C36: организация и осуществление мероприятий по территориальной обороне и гражданской обороне, защите населения и территории сельского поселения от чрезвычайных ситуаций природного и техногенного характера | D36: 5029 | Q36: =#N/A -> 0 | R36: =#N/A -> 0
B37: 1.1.29. | C37: создание, содержание и организация деятельности аварийно-спасательных служб и (или) аварийно-спасательных формирований на территории сельского поселения | D37: 5030 | Q37: =#N/A -> 0 | R37: =#N/A -> 0
B38: 1.1.30. | C38: осуществление мероприятий по обеспечению безопасности людей на водных объектах, охране их жизни и здоровья | D38: 5031 | Q38: =#N/A -> 0 | R38: =#N/A -> 0
B39: 1.1.31. | C39: создание, развитие и обеспечение охраны лечебно-оздоровительных местностей и курортов местного значения на территории сельского поселения, а также осуществление муниципального контроля в области использования и охраны особо охраняемых природных территорий местного значения | D39: 5032 | Q39: =#N/A -> 0 | R39: =#N/A -> 0
B40: 1.1.32. | C40: осуществление в пределах, установленных водным законодательством Российской Федерации, полномочий собственника водных объектов, информирование населения об ограничениях их использования | D40: 5033 | Q40: =#N/A -> 0 | R40: =#N/A -> 0
B41: 1.1.33. | C41: осуществление муниципального лесного контроля | D41: 5034 | Q41: =#N/A -> 0 | R41: =#N/A -> 0
...

Sheet Бланк
A1: 17 | B1: Свод реестров расходных обязательств Шарангского муниципального района
B3: Наименование полномочия, расходного обязательства | D3: Наименование муниципальной услуги (работы) | E3: Правовое основание финансового обеспечения и расходования средств (нормативные правовые акт, договоры, соглашения) | N3: Код расхода по БК | P3: Объем средств на исполнение расходного обязательства
A4: ID_Form = 1000368 | E4: Российской Федерации | H4: субъекта Российской Федерации | K4: муницпального района | P4: отчетный 20__год | R4: текущий 20__ год | S4: очередной 20__ год | T4: плановый период
A5: 6 | E5: Наименование номер и дата | F5: Номер статьи (подстатьи), пункта (подпункта ) | G5: Дата вступления в силу и срок действия | H5: Наименование номер и дата | I5: Номер статьи (подстатьи), пункта (подпункта ) | J5: Дата вступления в силу и срок действия | K5: Наименование номер и дата | L5: Номер статьи (подстатьи), пункта (подпункта ) | M5: Дата вступления в силу и срок действия | N5: раздел | O5: подраздел | P5: по плану | Q5: по факту исполнения | T5: 20__ | U5: 20__
A6: 8 | B6: 1 | D6: 2 | E6: 3 | F6: 4 | G6: 5 | H6: 6 | I6: 7 | J6: 8 | K6: 9 | L6: 10 | M6: 11 | N6: 12 | O6: 13 | P6: 14 | Q6: 15 | R6: 16 | S6: 17 | T6: 18 | U6: 19
A7: 29 | B7: 1. | C7: Расходные обязательства, возникшие в результате принятия нормативных правовых актов муниципального района, заключения договоров (соглашений), всего
A8: 377 | C8: из них: | AE8: =X7 -> 0
B9: в том числе субсидии бюджетным учреждениям на финансовое обеспечение муниципального задания на оказание муниципальных услуг (выполнение работ)
B10: 1.1. | C10: Расходные обязательства, возникшие в результате принятия нормативных правовых актов муниципального района, заключения договоров (соглашений) в рамках реализации вопросов местного значения муниципального района, всего
B11: 1.1.1. | C11: составление и рассмотрение проекта бюджета муниципального района, утверждение и исполнение бюджета муниципального района, осуществление контроля за его исполнением, составление и утверждение отчета об исполнении бюджета муниципального района
B12: 1.1.2. | C12: установление, изменение и отмена местных налогов и сборов муниципального района
B13: 1.1.3. | C13: владение, пользование и распоряжение имуществом, находящимся в муниципальной собственности муниципального района
B14: 1.1.4. | C14: организация в границах муниципального района электро- и газоснабжения поселений в пределах полномочий, установленных законодательством Российской Федерации
B15: 1.1.5. | C15: дорожная деятельность в отношении автомобильных дорог местного значения вне границ населенных пунктов в границах муниципального района, осуществление муниципального контроля за сохранностью автомобильных дорог местного значения вне границ населенных пунктов в границах муниципального района, и обеспечение безопасности дорожного движения на них, а также осуществление иных полномочий в области использования автомобильных дорог и осуществления дорожной деятельности в соответствии с законодательством Российской Федерации
B16: 1.1.6. | C16: создание условий для предоставления транспортных услуг населению и организация транспортного обслуживания населения между поселениями в границах муниципального района
B17: 1.1.7. | C17: участие в профилактике терроризма и экстремизма, а также в минимизации и (или) ликвидации последствий проявлений терроризма и экстремизма на территории муниципального района
B18: 1.1.8. | C18: разработка и осуществление мер, направленных на укрепление межнационального и межконфессионального согласия, поддержку и развитие языков и культуры народов Российской Федерации, проживающих на территории муниципального района, реализацию прав национальных меньшинств, обеспечение социальной и культурной адаптации мигрантов, профилактику межнациональных (межэтнических) конфликтов
B19: 1.1.9. | C19: участие в предупреждении и ликвидации последствий чрезвычайных ситуаций на территории муниципального района
B20: 1.1.10. | C20: организация охраны общественного порядка на территории муниципального района муниципальной милицией
B21: 1.1.11. | C21: предоставление помещения для работы на обслуживаемом административном участке муниципального района сотруднику, замещающему должность участкового уполномоченного полиции
... B120: 1.4. | C120: Расходные обязательства, возникшие в результате принятия нормативных правовых актов муниципального района, заключения договоров (соглашений) в рамках реализации органами местного самоуправления муниципального района отдельных государственных полномочий, переданных органами государственной власти Российской Федерации и (или) органами государственной власти субъекта Российской
C121: Федерации, всего
B122: 1.4.1. | C122: за счет субвенций, предоставленных из федерального бюджета или бюджета субъекта Российской Федерации, всего
B123: 1.4.1.1. | C123: Субвенции на возмещение части затрат сельскохозяйственных товаропроизводителей на уплату страховой премии, начисленной по договору сельскохозяйственного страхования в области животноводства, за счет средств областного бюджета
B124: 1.4.1.2. | C124: Субвенции на исполнение полномочий в сфере общего образования в муниципальных дошкольных образовательных организациях
B125: 1.4.1.3. | C125: Субвенции на исполнение полномочий по финансовому обеспечению получения дошкольного образования в частных дошкольных образовательных организациях посредством предоставления указанным образовательным организациям субсидий на возмещение затрат, включая расходы на оплату труда, приобретение учебников и учебных пособий, средств обучения, игр, игрушек (за исключением расходов на содержание зданий и оплату коммунальных услуг)
B126: 1.4.1.4. | C126: Субвенции на осуществление полномочий по созданию и организации деятельности муниципальных комиссий по делам несовершеннолетних и защите их прав
B127: 1.4.1.5. | C127: Субвенции на осуществление полномочий по поддержке сельскохозяйственного производства
B128: 1.4.1.6. | C128: Субвенции на осуществление полномочий по организационно-техническому и информационно-методическому сопровождению аттестации педагогических работников муниципальных и частных организаций, осуществляющих образовательную деятельность, с целью установления соответствия уровня квалификации требованиям, предъявляемым к первой квалификационной категории
B129: 1.4.1.7. | C129: Субвенции на осуществление полномочий по организации и осуществлению деятельности по опеке и попечительству в отношении несовершеннолетних граждан
B130: 1.4.1.8. | C130: Субвенции на исполнение полномочий в сфере общего образования в муниципальных общеобразовательных организациях
B131: 1.4.1.9. | C131: Субвенции бюджету городского округа город Нижний Новгород на осуществление полномочий в области социальной поддержки и социального обслуживания семей, имеющих детей
B132: 1.4.1.10. | C132: Субвенции на осуществление выплаты компенсации части родительской платы за присмотр и уход за ребенком в государственных и муниципальных дошкольных образовательных организациях, частных образовательных организациях, реализующих образовательную программу дошкольного образования, в том числе обеспечение организации выплаты компенсации части родительской платы
B133: 1.4.1.11. | C133: Субвенции на осуществление органами местного самоуправления муниципальных районов полномочий органов государственной власти Нижегородской области по расчету и предоставлению дотаций бюджетам поселений
... B176: 1.4.1.54 | C176: Субвенции на проведение ремонта жилых помещений, собственниками которых являются дети-сироты и дети, оставшиеся без попечения родителей, а также лица из числа детей-сирот и детей, оставшихся без попечения родителей, либо жилых помещений государственного жилищного фонда, право пользования которыми за ними сохранено, в целях обеспечения надлежащего санитарного и технического состояния этих жилых помещений
B177: 1.4.2.2.
B178: 1.5. | C178: Расходные обязательства, возникшие в результате принятия нормативных правовых актов муниципального района, заключения соглашений, предусматривающих предоставление межбюджетных трансфертов из бюджета муниципального района другим бюджетам бюджетной системы Российской Федерации, всего
B179: 1.5.1. | C179: по предоставлению дотаций на выравнивание бюджетной обеспеченности городских, сельских поселений, всего
B180: 1.5.2. | C180: по предоставлению субсидий в бюджет субъекта Российской Федерации, всего
B181: 1.5.3. | C181: по предоставлению субвенций в бюджеты городских, сельских поселений, предоставленных из федерального бюджета и (или) бюджета субъекта Российской Федерации, в случае наделения федеральным законом и (или) законом субъекта Российской Федерации органов местного самоуправления муниципального района полномочиями органов государственной власти по расчету и предоставлению субвенций бюджетам городских, сельских поселений, всего
...

Sheet Лист1
